BEGIN:VCALENDAR
VERSION:2.0
PRODID:-//Asociación Gendai Reiki Ho Madrid - ECPv6.15.18//NONSGML v1.0//EN
CALSCALE:GREGORIAN
METHOD:PUBLISH
X-WR-CALNAME:Asociación Gendai Reiki Ho Madrid
X-ORIGINAL-URL:https://www.gendaireikihomadrid.com
X-WR-CALDESC:Eventos para Asociación Gendai Reiki Ho Madrid
REFRESH-INTERVAL;VALUE=DURATION:PT1H
X-Robots-Tag:noindex
X-PUBLISHED-TTL:PT1H
BEGIN:VTIMEZONE
TZID:Europe/Madrid
BEGIN:DAYLIGHT
TZOFFSETFROM:+0100
TZOFFSETTO:+0200
TZNAME:CEST
DTSTART:20250330T010000
END:DAYLIGHT
BEGIN:STANDARD
TZOFFSETFROM:+0200
TZOFFSETTO:+0100
TZNAME:CET
DTSTART:20251026T010000
END:STANDARD
BEGIN:DAYLIGHT
TZOFFSETFROM:+0100
TZOFFSETTO:+0200
TZNAME:CEST
DTSTART:20260329T010000
END:DAYLIGHT
BEGIN:STANDARD
TZOFFSETFROM:+0200
TZOFFSETTO:+0100
TZNAME:CET
DTSTART:20261025T010000
END:STANDARD
BEGIN:DAYLIGHT
TZOFFSETFROM:+0100
TZOFFSETTO:+0200
TZNAME:CEST
DTSTART:20270328T010000
END:DAYLIGHT
BEGIN:STANDARD
TZOFFSETFROM:+0200
TZOFFSETTO:+0100
TZNAME:CET
DTSTART:20271031T010000
END:STANDARD
END:VTIMEZONE
BEGIN:VEVENT
DTSTART;TZID=Europe/Madrid:20260426T110000
DTEND;TZID=Europe/Madrid:20260426T130000
DTSTAMP:20260421T133233
CREATED:20260404T215801Z
LAST-MODIFIED:20260404T215801Z
UID:8837-1777201200-1777208400@www.gendaireikihomadrid.com
SUMMARY:Encuentro de Reiki
DESCRIPTION:Online y gratuito. \nAbierto para todas las líneas de Reiki. \nGuiado por la Asociación Gendai Reiki Ho Cataluña
URL:https://www.gendaireikihomadrid.com/actividad/encuentro-de-reiki-abril-2026/
LOCATION:Online
CATEGORIES:Actividades
END:VEVENT
END:VCALENDAR